BEGIN:VCALENDAR
VERSION:2.0
PRODID:-//hacksw/handcal//NONSGML v1.0//EN
BEGIN:VEVENT
SUMMARY:Notre VI de septembre La voie Bleue
UID:a44524af-6d74-48c9-8e95-c17ad21f19bf
DTSTART:20260913T220000Z
DTEND:20260918T220000Z
LOCATION:Localisation   
CATEGORIES:Sportif
STATUS:
DESCRIPTION:<p><span style="font-size:18px;">Nous partirions de
 Luxembourg le jeudi 10 septembre, pour revenir a Dijon le vendredi 18
 septembre.</span></p>
 
 <p><span style="font-size:18px;">Ceci
 represente 9 etapes dont 2 courtes le 1<sup>er</sup> et le dernier
 jour. Il y aurait des hotels, un gite, une auberge de
 jeunesse.</span></p>
URL;VALUE=URI:https://www.meaux-cyclo-touriste.fr/evenements/2026/09/14/notre-vi-de-septembre-la-voie-bleue-2441270
END:VEVENT
END:VCALENDAR
